BEGIN:VCALENDAR
VERSION:2.0
PRODID:-//Yii2 Events//EN
BEGIN:VEVENT
UID:69e529595a5e4@lokalno.eventure.si
DTSTAMP:20260419T191329Z
DTSTART:20260331T150000
DTEND:20260331T200000
SUMMARY:Linux & Claude Code za podjetnike – 1:1 delavnica za podjetnike
DESCRIPTION:Popoldanska plačljiva delavnica z individualno ali skupinsko pomočjo. Delamo na vaših konkretnih projektih – od inštalacije do realizacije.
LOCATION:Online Event (Meet)
URL:https://lokalno.eventure.si/en/event/linux-claude-code-za-podjetnike-11-delavnica-za-podjetnike
END:VEVENT
END:VCALENDAR
